BEGIN:VCALENDAR
VERSION:2.0
PRODID:-//Sabre//Sabre VObject 4.5.0//EN
CALSCALE:GREGORIAN
BEGIN:VEVENT
UID:sabre-vobject-53cb3a9f-6b2d-4996-8e34-4ff37e05b113
DTSTAMP:20260423T140727Z
LOCATION:
SUMMARY:Studenci z Lipska z wizytą na lektoracie języka niemieckiego
DESCRIPTION:
DTSTART;VALUE=DATE:20230516
DTEND;VALUE=DATE:20230517
END:VEVENT
END:VCALENDAR
