BEGIN:VCALENDAR
VERSION:2.0
PRODID:-//Sabre//Sabre VObject 4.5.0//EN
CALSCALE:GREGORIAN
BEGIN:VEVENT
UID:sabre-vobject-7ba53602-a16e-46c3-ab19-16314e7c9a7e
DTSTAMP:20260423T140727Z
LOCATION:
SUMMARY:Jubileusz 70-lecia SPNJO
DESCRIPTION:
DTSTART;VALUE=DATE:20230602
DTEND;VALUE=DATE:20230603
END:VEVENT
END:VCALENDAR
