BEGIN:VCALENDAR
VERSION:2.0
PRODID:-//Sabre//Sabre VObject 4.5.0//EN
CALSCALE:GREGORIAN
BEGIN:VEVENT
UID:sabre-vobject-b35d79ce-831d-4b80-9fc0-34e11ea470ce
DTSTAMP:20260423T140725Z
LOCATION:SPNJO UWr
SUMMARY:Studenci z Lipska z wizytą na lektoracie języka niemieckiego
DESCRIPTION:Studenci z Lipska z wizytą na lektoracie języka niemieckiego
DTSTART;VALUE=DATE-TIME:20230515T220100Z
DTEND;VALUE=DATE-TIME:20230516T215900Z
END:VEVENT
END:VCALENDAR
