BEGIN:VCALENDAR
VERSION:2.0
PRODID:-//Sabre//Sabre VObject 4.5.0//EN
CALSCALE:GREGORIAN
BEGIN:VEVENT
UID:sabre-vobject-83d1abbd-fba7-41d8-bc0c-1dfb02e26b8d
DTSTAMP:20260423T195427Z
LOCATION:
SUMMARY:Między nami studentami &#8211\; tandem kulturowo-językowy
DESCRIPTION:Tandem kulturowo-językowy
DTSTART;VALUE=DATE:20221101
DTEND;VALUE=DATE:20230207
END:VEVENT
END:VCALENDAR
