BEGIN:VCALENDAR
VERSION:2.0
PRODID:-//Sabre//Sabre VObject 4.5.0//EN
CALSCALE:GREGORIAN
BEGIN:VEVENT
UID:sabre-vobject-cad7a56a-0ecd-442b-9f18-00e885fd06da
DTSTAMP:20260423T140734Z
LOCATION:
SUMMARY:Święto Uniwersytetu Wrocławskiego 2023 &#8211\; Nagrodzeni Praco
 wnicy SPNJO
DESCRIPTION:Święto Uniwersytetu - Wręczenie medali pracownikom SPNJO
DTSTART;VALUE=DATE:20221115
DTEND;VALUE=DATE:20221116
END:VEVENT
END:VCALENDAR
